BEGIN:VCALENDAR
VERSION:2.0
PRODID:-//The Greater Renovo Area Heritage Park - ECPv6.15.20//NONSGML v1.0//EN
CALSCALE:GREGORIAN
METHOD:PUBLISH
X-WR-CALNAME:The Greater Renovo Area Heritage Park
X-ORIGINAL-URL:https://renovoheritage.org
X-WR-CALDESC:Events for The Greater Renovo Area Heritage Park
REFRESH-INTERVAL;VALUE=DURATION:PT1H
X-Robots-Tag:noindex
X-PUBLISHED-TTL:PT1H
BEGIN:VTIMEZONE
TZID:America/New_York
BEGIN:DAYLIGHT
TZOFFSETFROM:-0500
TZOFFSETTO:-0400
TZNAME:EDT
DTSTART:20230312T070000
END:DAYLIGHT
BEGIN:STANDARD
TZOFFSETFROM:-0400
TZOFFSETTO:-0500
TZNAME:EST
DTSTART:20231105T060000
END:STANDARD
BEGIN:DAYLIGHT
TZOFFSETFROM:-0500
TZOFFSETTO:-0400
TZNAME:EDT
DTSTART:20240310T070000
END:DAYLIGHT
BEGIN:STANDARD
TZOFFSETFROM:-0400
TZOFFSETTO:-0500
TZNAME:EST
DTSTART:20241103T060000
END:STANDARD
BEGIN:DAYLIGHT
TZOFFSETFROM:-0500
TZOFFSETTO:-0400
TZNAME:EDT
DTSTART:20250309T070000
END:DAYLIGHT
BEGIN:STANDARD
TZOFFSETFROM:-0400
TZOFFSETTO:-0500
TZNAME:EST
DTSTART:20251102T060000
END:STANDARD
END:VTIMEZONE
BEGIN:VEVENT
DTSTART;TZID=America/New_York:20240504T140000
DTEND;TZID=America/New_York:20240504T220000
DTSTAMP:20260424T190143
CREATED:20240419T004400Z
LAST-MODIFIED:20240429T174709Z
UID:5237-1714831200-1714860000@renovoheritage.org
SUMMARY:2024 Annual Kentucky Derby Party
DESCRIPTION:Hold the date for the 2024 Annual Kentucky Derby Party! \nThe event begins at 2 PM but stay the whole night! The race will be broadcast starting at 2:30 PM. \nJoin us for adult pony races\, kids races\, hat contest\, pony rides\, all weather permitting. \nVinnie is crafting some Kentucky Browns\, which is an open-faced sandwich\, and serving up Mint Juleps. Come party with us at the winner’s circle! \nWe will also be having a raffle\, tip tickets\, and a 50/50 drawing. No cover charge. \nStay after the event for live music with Sean Farley on stage from 7 PM to 10 PM. \nThis event is open to the public. \nDate and Time:\nSaturday\, May 4\, 2024 from 2 PM to 10 PM \nLocation: \nGood Neighbor Craft House \n\nGet Involved: \nInterested in getting involved? Learn How \n\nFor more information:\nContact the Greater Renovo Area Heritage Park at 570-484-7000 or marketing@renovoheritage.org. \nEvent is sponsored by The Greater Renovo Area Heritage Park.\nProceeds benefit The Greater Renovo Area Heritage Park.
URL:https://renovoheritage.org/event/2024-kentucky-derby-party/
LOCATION:Good Neighbor Craft House\, 9650 Renovo Rd\, North Bend\, PA\, 17760\, United States
ATTACH;FMTTYPE=image/jpeg:https://renovoheritage.org/wp-content/uploads/2024/04/image0.jpeg
END:VEVENT
END:VCALENDAR