BEGIN:VCALENDAR
VERSION:2.0
PRODID:-//The Greater Renovo Area Heritage Park - ECPv6.15.20//NONSGML v1.0//EN
CALSCALE:GREGORIAN
METHOD:PUBLISH
X-WR-CALNAME:The Greater Renovo Area Heritage Park
X-ORIGINAL-URL:https://renovoheritage.org
X-WR-CALDESC:Events for The Greater Renovo Area Heritage Park
REFRESH-INTERVAL;VALUE=DURATION:PT1H
X-Robots-Tag:noindex
X-PUBLISHED-TTL:PT1H
BEGIN:VTIMEZONE
TZID:America/New_York
BEGIN:DAYLIGHT
TZOFFSETFROM:-0500
TZOFFSETTO:-0400
TZNAME:EDT
DTSTART:20200308T070000
END:DAYLIGHT
BEGIN:STANDARD
TZOFFSETFROM:-0400
TZOFFSETTO:-0500
TZNAME:EST
DTSTART:20201101T060000
END:STANDARD
BEGIN:DAYLIGHT
TZOFFSETFROM:-0500
TZOFFSETTO:-0400
TZNAME:EDT
DTSTART:20210314T070000
END:DAYLIGHT
BEGIN:STANDARD
TZOFFSETFROM:-0400
TZOFFSETTO:-0500
TZNAME:EST
DTSTART:20211107T060000
END:STANDARD
BEGIN:DAYLIGHT
TZOFFSETFROM:-0500
TZOFFSETTO:-0400
TZNAME:EDT
DTSTART:20220313T070000
END:DAYLIGHT
BEGIN:STANDARD
TZOFFSETFROM:-0400
TZOFFSETTO:-0500
TZNAME:EST
DTSTART:20221106T060000
END:STANDARD
END:VTIMEZONE
BEGIN:VEVENT
DTSTART;TZID=America/New_York:20210829T160000
DTEND;TZID=America/New_York:20210829T190000
DTSTAMP:20260424T062038
CREATED:20210625T035733Z
LAST-MODIFIED:20210625T035733Z
UID:1882-1630252800-1630263600@renovoheritage.org
SUMMARY:Summer Concert Series - Logan Route (Country Music)
DESCRIPTION:August 29\, 2021  4:00 – 7:00 P.M. – Logan Route  (country music concert) Live at The 16th Street Pavilion (across from Lingle’s) ! This concert is sponsored by The Renovo Sons of Italy and The Clinton County Community Foundation
URL:https://renovoheritage.org/event/summer-concert-series-logan-route-country-music/
LOCATION:PA
END:VEVENT
BEGIN:VEVENT
DTSTART;TZID=America/New_York:20210821T203000
DTEND;TZID=America/New_York:20210821T230000
DTSTAMP:20260424T062038
CREATED:20210625T032918Z
LAST-MODIFIED:20210819T152029Z
UID:1880-1629577800-1629586800@renovoheritage.org
SUMMARY:Family Movie Night
DESCRIPTION:8/21/2021   8:30 P.M.   It’s Family Movie Night at the Greater Renovo Area Heritage Park lot\, 530 Erie Avenue\, Renovo! This event is sponsored by The Clinton County Community Foundation.\nThis Saturday\, August 21st we will hold our annual evening for our area kids and families. At dusk\, approximately 8:20 we will show outdoors the new release of Disney’s Pixar movie Luca. This will be a fun night for kids and parents. Join Heritage Park on the lot adjacent to our building as we erect our big movie screen. Free popcorn will be made fresh for our guests. \nWe look forward to this night all year round as we celebrate our area youth before they head back to school!!! See ya Saturday kids! \nOh what adventures await Luca. Set in a beautiful seaside town on the Italian Riviera\, Disney and Pixar’s original feature film “Luca” is a coming-of-age story about one young boy experiencing an unforgettable summer filled with gelato\, pasta and endless scooter rides. Luca (voice of Jacob Tremblay) shares these adventures with his newfound best friend\, Alberto (voice of Jack Dylan Grazer)\, but all the fun is threatened by a deeply-held secret: they are sea monsters from another world just below the water’s surface. Bring your lawn chairs!
URL:https://renovoheritage.org/event/family-movie-night/
LOCATION:PA
END:VEVENT
BEGIN:VEVENT
DTSTART;TZID=America/New_York:20210815T160000
DTEND;TZID=America/New_York:20210815T190000
DTSTAMP:20260424T062038
CREATED:20210625T031917Z
LAST-MODIFIED:20210625T031917Z
UID:1878-1629043200-1629054000@renovoheritage.org
SUMMARY:Summer Concert Series - Flashback
DESCRIPTION:August 15\, 2021  4:00 – 7:00 P.M. – Flashback (Classic Rock & Blues)  Live at 16th Street Park Pavilion in Renovo (across from Lingle’s)! This concert is sponsored by Renovo Borough and The Clinton County Community Foundation!
URL:https://renovoheritage.org/event/summer-concert-series-flashback/
LOCATION:PA
END:VEVENT
BEGIN:VEVENT
DTSTART;TZID=America/New_York:20210808T160000
DTEND;TZID=America/New_York:20210808T190000
DTSTAMP:20260424T062038
CREATED:20210625T031217Z
LAST-MODIFIED:20210807T031232Z
UID:1876-1628438400-1628449200@renovoheritage.org
SUMMARY:Summer Concert Series - Dos Hombres
DESCRIPTION:UPDATE: August 8\, 2021  4:00 – 7:00 P.M. – Dos Hombres.  Live at 16th Street Park Pavilion in Renovo (across from Lingle’s)! This concert is sponsored by The Clinton County Community Foundation! \n Please note we have a slight change in line up for this Sunday’s Concert in the Park. Our band is coming to us from Dubois\, PA. The local chapter of the Knights of Columbus will be preparing their famous Hot Sausage Sandwiches for purchase. We will have our quilt raffle tickets\, basket raffle and 50/50. Vendors may set up at this concert\, but only food provided by the mentioned non profit. Concert 4-7. https://doshombres.rocks/
URL:https://renovoheritage.org/event/summer-concert-series-dos-hombres/
LOCATION:PA
END:VEVENT
BEGIN:VEVENT
DTSTART;TZID=America/New_York:20210801T160000
DTEND;TZID=America/New_York:20210801T190000
DTSTAMP:20260424T062038
CREATED:20210625T030639Z
LAST-MODIFIED:20210625T030639Z
UID:1874-1627833600-1627844400@renovoheritage.org
SUMMARY:Summer Concert Series - Unhinged
DESCRIPTION:August 1\, 2021  4:00 – 7:00 P.M. – Unhinged (rock concert) Live at Chapman Township Ball Park  in North Bend! This concert is sponsored by Chapman Township and The Clinton County Community Foundation!
URL:https://renovoheritage.org/event/summer-concert-series-unhinged/
LOCATION:PA
END:VEVENT
BEGIN:VEVENT
DTSTART;TZID=America/New_York:20210725T160000
DTEND;TZID=America/New_York:20210725T190000
DTSTAMP:20260424T062038
CREATED:20210625T025936Z
LAST-MODIFIED:20210625T025936Z
UID:1871-1627228800-1627239600@renovoheritage.org
SUMMARY:Summer Concert Series - Heather Olson - “Patsy Cline”
DESCRIPTION:July 5\, 2021  4:00 – 7:00 P.M. – Heather Olson  – country music concert including a 1 hr.  Patsy Cline Tribute –  Live at 16th Street Park Pavilion (across from Lingle’s) in Renovo! This concert is sponsored by Noyes Township and The Clinton County Community Foundation!
URL:https://renovoheritage.org/event/summer-concert-series-heather-olson-patsy-cline/
LOCATION:PA
END:VEVENT
BEGIN:VEVENT
DTSTART;TZID=America/New_York:20210724T080000
DTEND;TZID=America/New_York:20210724T170000
DTSTAMP:20260424T062038
CREATED:20210627T041549Z
LAST-MODIFIED:20210627T042622Z
UID:1920-1627113600-1627146000@renovoheritage.org
SUMMARY:Renovo Heritage Park Kayak / Canoe Poker Float
DESCRIPTION:Heritage Park Poker Float 2021\n(Click the link above to see the flier.)\nRegistration\n8:00-9:00A.M. @ 5th Street Boat Launch\, Renovo Pa.\n$25 per person $20 for anyone under 18 (they can not participate in the poker part)\nHave kayaks loaded by 9:30 A.M.\n9:45- load bus to head to launch site (Big Rocks along Kettle Creek).\nThere will be 5 poker stops.\nAt each stop\, participants 18 and over will pick 1 poker chip from the bucket.\nThere will be money marked on the chips. If you pull a chip with money on it\, you will receive that money right away.\nYou will have 5 chances to win money.\nYou will receive a map of the route with the stops marked.\nOnce you return back to the 5th street boat launch\, pizza and drinks will be available.\nWe will also have a 50/50\nSGOC #316\nIn order to receive a T-shirt\, you must pay before July 16th.\n\n\n\nWays to pay:\n(please put the size of the T-shirt in notes)\n1. PayPal— treasurer@renovoheritage.org\n2. Make check payable to “GRAHP” or cash  “attention”  Tracy.\nMail to\, or drop off at… 530 Erie Avenue\, Renovo PA  17764\n(Please write “poker float” and the size of the T-shirt in the memo.)\n\n\n\nAttention::: the route from the launch site (big rocks) to Stop #3 – Kettle Creek Inn\, could be rough in some spots.\nSo if you are not experienced\, please stay with someone that is.\nKayaks/canoes must have a 2021 launch permit\, life vest\, and whistle.
URL:https://renovoheritage.org/event/renovo-heritage-park-kayak-canoe-poker-float/
LOCATION:PA
END:VEVENT
BEGIN:VEVENT
DTSTART;TZID=America/New_York:20210722T180000
DTEND;TZID=America/New_York:20210722T193000
DTSTAMP:20260424T062038
CREATED:20210625T115558Z
LAST-MODIFIED:20210625T115558Z
UID:1911-1626976800-1626982200@renovoheritage.org
SUMMARY:GRAHP Board Meeting
DESCRIPTION:This is a regular business meeting for the Greater Renovo Area Heritage Park Board of Directors. It will be held at the Maxwell Building – 532 Erie Avenue\, Renovo\, PA \nThere is no meeting in August. The Annual Meeting and Dinner will take its place. \n 
URL:https://renovoheritage.org/event/grahp-board-meeting/
LOCATION:The Greater Renovo Area Heritage Park\, 530 Erie Avenue\, Renovo\, PA\, 17764\, United States
END:VEVENT
BEGIN:VEVENT
DTSTART;TZID=America/New_York:20210718T160000
DTEND;TZID=America/New_York:20210718T190000
DTSTAMP:20260424T062038
CREATED:20210625T023759Z
LAST-MODIFIED:20210625T023759Z
UID:1868-1626624000-1626634800@renovoheritage.org
SUMMARY:Summer Concert Series - Private Stock Trio
DESCRIPTION:July 18\, 2021  4:00 – 7:00 P.M. – Private Stock Trio – Live at The Citizens Hose Company Pavilion overlooking the Susquehanna River! This concert is sponsored by South Renovo Borough and The Clinton County Community Foundation!
URL:https://renovoheritage.org/event/summer-concert-series-private-stock-trio/
LOCATION:PA
END:VEVENT
BEGIN:VEVENT
DTSTART;TZID=America/New_York:20210711T160000
DTEND;TZID=America/New_York:20210711T190000
DTSTAMP:20260424T062038
CREATED:20210624T230710Z
LAST-MODIFIED:20210711T134804Z
UID:1865-1626019200-1626030000@renovoheritage.org
SUMMARY:UPDATE: Venue Change - Summer Concert Series - Danny Haynes
DESCRIPTION:Due to inclement weather\nCountry Singer Danny Haynes will be performing from 4:00 – 7:00 P.M.\nat the Sons and Daughters of Italy lodge 149\n111 12th St Renovo\, PA 17764\nThis concert is sponsored by The Clinton County Community Foundation. \n 
URL:https://renovoheritage.org/event/summer-concert-series-danny-haynes/
LOCATION:PA
END:VEVENT
BEGIN:VEVENT
DTSTART;TZID=America/New_York:20210320T170000
DTEND;TZID=America/New_York:20210320T190000
DTSTAMP:20260424T062038
CREATED:20210225T143230Z
LAST-MODIFIED:20210225T151703Z
UID:1824-1616259600-1616266800@renovoheritage.org
SUMMARY:Heritage Park Spa Day March 2021
DESCRIPTION:Heritage Park Presents “GOOD BYE WINTER” ladies only spa party. \nMarch 20\, 2021\n5-7pm\n530 Erie Avenue\nFacial Care & Foot Care \nCost: $20 (Products Provided) \nLight Refreshments/Drinks \nComplimentary Drink\nSmall Games of Chance\nDoor Prizes \nRegistration\nYou must pre-register for this event. To pre-register\, please call 570-484-7000 or 570-927-0117.
URL:https://renovoheritage.org/event/heritage-park-spa-day-march-2021/
LOCATION:The Greater Renovo Area Heritage Park\, 530 Erie Avenue\, Renovo\, PA\, 17764\, United States
END:VEVENT
END:VCALENDAR