BEGIN:VCALENDAR
VERSION:2.0
PRODID:-//The Greater Renovo Area Heritage Park - ECPv6.15.20//NONSGML v1.0//EN
CALSCALE:GREGORIAN
METHOD:PUBLISH
X-WR-CALNAME:The Greater Renovo Area Heritage Park
X-ORIGINAL-URL:https://renovoheritage.org
X-WR-CALDESC:Events for The Greater Renovo Area Heritage Park
REFRESH-INTERVAL;VALUE=DURATION:PT1H
X-Robots-Tag:noindex
X-PUBLISHED-TTL:PT1H
BEGIN:VTIMEZONE
TZID:America/New_York
BEGIN:DAYLIGHT
TZOFFSETFROM:-0500
TZOFFSETTO:-0400
TZNAME:EDT
DTSTART:20220313T070000
END:DAYLIGHT
BEGIN:STANDARD
TZOFFSETFROM:-0400
TZOFFSETTO:-0500
TZNAME:EST
DTSTART:20221106T060000
END:STANDARD
BEGIN:DAYLIGHT
TZOFFSETFROM:-0500
TZOFFSETTO:-0400
TZNAME:EDT
DTSTART:20230312T070000
END:DAYLIGHT
BEGIN:STANDARD
TZOFFSETFROM:-0400
TZOFFSETTO:-0500
TZNAME:EST
DTSTART:20231105T060000
END:STANDARD
BEGIN:DAYLIGHT
TZOFFSETFROM:-0500
TZOFFSETTO:-0400
TZNAME:EDT
DTSTART:20240310T070000
END:DAYLIGHT
BEGIN:STANDARD
TZOFFSETFROM:-0400
TZOFFSETTO:-0500
TZNAME:EST
DTSTART:20241103T060000
END:STANDARD
END:VTIMEZONE
BEGIN:VEVENT
DTSTART;TZID=America/New_York:20230916T090000
DTEND;TZID=America/New_York:20230916T180000
DTSTAMP:20260423T230919
CREATED:20230124T224735Z
LAST-MODIFIED:20230915T132242Z
UID:2595-1694854800-1694887200@renovoheritage.org
SUMMARY:Old Timers Softball Tournament - POSTPONED!
DESCRIPTION:POSTPONED UNTIL FURTHER NOTICE!\n Old Timer’s Softball Tournament @ North Bend Ball Field\nAge limit: Over 40… Co-ed teams welcome!\nTeam fee (to be determined).\n \n“Take me out to the ballgame!” Re-live the good old days at historic Chapman Township Ballfield!  Enjoy food\, beverages\, live music\, and lots of fun! Entrants cannot \nbe under 40. Bring a team! Have one last hurrah for all the softball enthusiasts\, we will have young runners on hand! \nFor information\, contact:\nTracy Shady at: (570) 755-1324 / tshady@renovoheritage.org \nMary George Rhone at: (570) 927-0117 / mrhone@renovoheritage.org \nVisit our website at: https://renovoheritage.org \nProceeds benefit Heritage Park projects and programs.
URL:https://renovoheritage.org/event/old-timers-softball-tournament/
LOCATION:Chapman Township Ballfield\, North Bend\, PA\, 17760\, United States
CATEGORIES:Fundraising Event
ORGANIZER;CN="Greater Renovo Area Heritage Park":MAILTO:marketing@renovoheritage.org
END:VEVENT
BEGIN:VEVENT
DTSTART;TZID=America/New_York:20230910T160000
DTEND;TZID=America/New_York:20230910T190000
DTSTAMP:20260423T230919
CREATED:20230629T002741Z
LAST-MODIFIED:20230629T002741Z
UID:4246-1694361600-1694372400@renovoheritage.org
SUMMARY:Sept 10 CONCERT: TOP SHELF
DESCRIPTION:Sept 10 CONCERT:\nTOP SHELF\n4-7PM \nSponsored by  Clinton County Community Foundation
URL:https://renovoheritage.org/event/sept-10-concert-top-shelf/
LOCATION:Heritage Park Lot A\, 530 Erie Avenue\, Renovo\, 17764\, United States
CATEGORIES:Public Service Event
ORGANIZER;CN="Greater Renovo Area Heritage Park":MAILTO:marketing@renovoheritage.org
END:VEVENT
BEGIN:VEVENT
DTSTART;TZID=America/New_York:20230909T090000
DTEND;TZID=America/New_York:20230909T150000
DTSTAMP:20260423T230919
CREATED:20230125T154931Z
LAST-MODIFIED:20230831T053506Z
UID:2620-1694250000-1694271600@renovoheritage.org
SUMMARY:Whiskey Springs ATV Poker Chip Run
DESCRIPTION:(Tickets can also be purchased at registration.)\nSGOC# 316\nEnjoy a day of riding one of DCNR’s premier ATV trail systems!\nTraverse old woods roads\, gravel roads\, forest trails\, and a moon-scape of un-vegetated strip mines.\n_________________________________\nREQUIRED\nAll rules for riding on DCNR property apply!\n If you plan to use the ATV Regional Pilot Connector Trail\, read this.\n* ATV Regional Pilot Connector Trail  (Click Here)\nWhat you need while riding…\nWhile riding your ATV\, you must carry with you or on the vehicle: \nCertificate of registration \nProof of liability insurance \nRegistration plate affixed to the vehicle \nExpiration stickers (does not apply to limited registration) \nValid safety certificate (ages 8-15 )\n* Pennsylvania’s ATV Riding Rules and Guidelines (Click Here)\n_____________________________\nAvenza Maps\nDownload the Avenza Maps App and find your way\naround Whiskey Springs on your phone!\nAvenza Maps Tutorials   Easy – Peasey!!\n_______________________________\nEVENT MAP\n2023 Whiskey Springs ATV Poker Run Map\nREGISTRATION is at Stop #1 – Boyer Road Parking Area\nRegister… Sign the Waiver… Get your wristband…\nPull your first Poker Chip and hit the trails!\n5 Stops… 5 Chances to win!!!\n  \n \nThere are 5 stops with a chance to win a cash prize at each stop.\nAll rules for riding on DCNR property apply!\n___________________________________________ \nNeed a place to stay in the Renovo area? \nEscape to Serenity hosted by Greg Zembower\n______\nBobby Maguire Airbnb host :  (570) 220-6446\n______\nCool Cottage Vibes ….Pet friendly ATV parking!\n______\nQuiet Oaks Rental Cabins\n______\nCross Fork Pine Lodge – 1BR “Trout’s Stream” cabin ON ATV TRAILS!!\n______\nGreen Acres: Susquehanna River & Hyner View: Nest 2\n______\nCozy open space loft along the Susquehanna River\n______\nCozy Get-Away in the Heart of North-Central Pa\n______\nSweetDrift at Kettle Creek (Main House)\n______\nTripp’s Four Seasons Restaurant and Motel\n_____\nStewart Hill Summit \n______\nCharlie Camp on Kettle Creek – Now with Wifi!\n______\nWe thank The Central Mountains ATV Association for sponsoring this event!\n \nFor information\, contact:\nTracy Shady at: (570) 755-1324 / tshady@renovoheritage.org\nMary George Rhone at: (570) 927-0117 / mrhone@renovoheritage.org\nFor UPDATES:\nFacebook page:  https://www.facebook.com/renovoheritage \nVisit our website at: https://renovoheritage.org/events/month/\nProceeds benefit Heritage Park projects and programs.
URL:https://renovoheritage.org/event/whiskey-springs-atv-poker-chip-run/
LOCATION:Whiskey Springs ATV Trails\, Westport\, PA\, 17778\, United States
CATEGORIES:Fundraising Event
ORGANIZER;CN="Greater Renovo Area Heritage Park":MAILTO:marketing@renovoheritage.org
END:VEVENT
BEGIN:VEVENT
DTSTART;TZID=America/New_York:20230827T160000
DTEND;TZID=America/New_York:20230827T190000
DTSTAMP:20260423T230919
CREATED:20230629T001711Z
LAST-MODIFIED:20230629T003448Z
UID:4241-1693152000-1693162800@renovoheritage.org
SUMMARY:CONCERT: Private Stock Trio
DESCRIPTION:Aug 27     CONCERT     4-7PM\nPrivate Stock Trio\nCitizen’s Fire Company in South Renovo \nSponsored by South Renovo Borough
URL:https://renovoheritage.org/event/concert-private-stock-trio/
LOCATION:Citizen’s Fire Company\, South Renovo\, PA\, 17764\, United States
CATEGORIES:Public Service Event
ORGANIZER;CN="Greater Renovo Area Heritage Park":MAILTO:marketing@renovoheritage.org
END:VEVENT
BEGIN:VEVENT
DTSTART;VALUE=DATE:20230826
DTEND;VALUE=DATE:20230827
DTSTAMP:20260423T230919
CREATED:20230629T000331Z
LAST-MODIFIED:20230629T003601Z
UID:4238-1693008000-1693094399@renovoheritage.org
SUMMARY:Budstock 2023
DESCRIPTION:Look for our Heritage Park booth at this event!\n\n(Details not available at this time)
URL:https://renovoheritage.org/event/budstock/
LOCATION:PA
CATEGORIES:Fundraising Event,Public Service Event
END:VEVENT
BEGIN:VEVENT
DTSTART;TZID=America/New_York:20230820T160000
DTEND;TZID=America/New_York:20230820T190000
DTSTAMP:20260423T230919
CREATED:20230628T235549Z
LAST-MODIFIED:20230629T003700Z
UID:4236-1692547200-1692558000@renovoheritage.org
SUMMARY:Aug 20 - Talent Show
DESCRIPTION:Elem & High School Students from Renovo Area \n(Monetary Prizes) \nHeritage Park Lot\,\n530 Erie Avenue\,\nSponsors\nCCCF &\nNoyes Township
URL:https://renovoheritage.org/event/aug-20-talent-show/
LOCATION:Heritage Park Lot A\, 530 Erie Avenue\, Renovo\, 17764\, United States
CATEGORIES:Fundraising Event,Special Program - Youth
ORGANIZER;CN="Greater Renovo Area Heritage Park":MAILTO:marketing@renovoheritage.org
END:VEVENT
BEGIN:VEVENT
DTSTART;TZID=America/New_York:20230819T170000
DTEND;TZID=America/New_York:20230819T200000
DTSTAMP:20260423T230919
CREATED:20230125T030351Z
LAST-MODIFIED:20230817T033126Z
UID:2612-1692464400-1692475200@renovoheritage.org
SUMMARY:New Event! Teen Murder Mystery Dinner
DESCRIPTION:AUG 19 –  TEEN MURDER MYSTERY\n(Murder on the Disco Floor)\nHeritage Park Lot – 530 Erie Avenue\n5:30-9:00 PM\,\nCost $20\,\nActors – Grades 5-12  \nEnjoy an evening of mystery and mayhem performed by local students in an outdoor setting! \nProceeds benefit the Bucktail Middle / High School music program. \nFor information\, contact:\nTracy Shady at: (570) 755-1324 / tshady@renovoheritage.org \nMary George Rhone at: (570) 927-0117 / mrhone@renovoheritage.org \n \nFor UPDATES: \nFacebook page:  https://www.facebook.com/renovoheritage  \nVisit our website at: https://renovoheritage.org/events/month/
URL:https://renovoheritage.org/event/new-event-teen-murder-mystery-dinner/
LOCATION:The Greater Renovo Area Heritage Park\, 530 Erie Avenue\, Renovo\, PA\, 17764\, United States
CATEGORIES:Fundraising Event,Special Program - Youth
ORGANIZER;CN="Greater Renovo Area Heritage Park":MAILTO:marketing@renovoheritage.org
END:VEVENT
BEGIN:VEVENT
DTSTART;TZID=America/New_York:20230730T160000
DTEND;TZID=America/New_York:20230730T190000
DTSTAMP:20260423T230919
CREATED:20230629T012234Z
LAST-MODIFIED:20230629T012234Z
UID:4252-1690732800-1690743600@renovoheritage.org
SUMMARY:July 30 CONCERT: SGT Bob
DESCRIPTION:Sponsored by Smith Excavation\n 
URL:https://renovoheritage.org/event/july-30-concert-sgt-bob/
LOCATION:Heritage Park Lot A\, 530 Erie Avenue\, Renovo\, 17764\, United States
CATEGORIES:Public Service Event
ORGANIZER;CN="Greater Renovo Area Heritage Park":MAILTO:marketing@renovoheritage.org
END:VEVENT
BEGIN:VEVENT
DTSTART;TZID=America/New_York:20230727T173000
DTEND;TZID=America/New_York:20230727T193000
DTSTAMP:20260423T230919
CREATED:20230125T025549Z
LAST-MODIFIED:20230628T233304Z
UID:2609-1690479000-1690486200@renovoheritage.org
SUMMARY:Heritage Park Annual Dinner
DESCRIPTION:This event is the annual corporate meeting and dinner. \nAttendance is restricted to members and invited guests.\nAnnual Dinner (Good Neighbor Craft House) Social from 5-6\, Dinner $30\nFor information\, contact:\n \n  \nMary George Rhone at: (570) 927-0117 / mrhone@renovoheritage.org \nTracy Shady at: (570) 755-1324 / tshady@renovoheritage.org\n 
URL:https://renovoheritage.org/event/heritage-park-annual-dinner/
LOCATION:Good Neighbor Craft House\, 9650 Renovo Rd\, North Bend\, PA\, 17760\, United States
CATEGORIES:Membership Event
ORGANIZER;CN="Greater Renovo Area Heritage Park":MAILTO:marketing@renovoheritage.org
END:VEVENT
BEGIN:VEVENT
DTSTART;TZID=America/New_York:20230722T083000
DTEND;TZID=America/New_York:20230722T170000
DTSTAMP:20260423T230919
CREATED:20230125T023545Z
LAST-MODIFIED:20230629T025423Z
UID:2604-1690014600-1690045200@renovoheritage.org
SUMMARY:Heritage Park Kayak Poker Float 2023
DESCRIPTION:Meet at Good Neighbor Craft House in Hyner between 8:30 and 9 AM for registration.\nRegistration Fee: $25\nPoker Chip Pull – $5 (must be 21 to participate in the poker chip pull)\nSafety briefing at 9:45 AM. The bus loads at 10:00 AM to take participants to the launch site.\n(Required for all canoes and kayaks: 2023 launch permit\, life vest and whistle. )\n\nEnjoy a day on the scenic West Branch of the Susquehanna River. Float through the beautiful Bucktail State Park!\nDrinks and food are provided. Stay afterward for the entertainment starting at 5 PM!\nFor information\, contact:\nTracy Shady at: (570) 755-1324 / tshady92@yahoo.com \nFor UPDATES:\nFacebook page:  https://www.facebook.com/renovoheritage  \nVisit our website at: https://renovoheritage.org/events/month/ \nProceeds benefit Heritage Park projects and programs.
URL:https://renovoheritage.org/event/heritage-park-poker-float-2023/
LOCATION:Good Neighbor Craft House\, 9650 Renovo Rd\, North Bend\, PA\, 17760\, United States
CATEGORIES:Public Service Event
ORGANIZER;CN="Greater Renovo Area Heritage Park":MAILTO:marketing@renovoheritage.org
END:VEVENT
BEGIN:VEVENT
DTSTART;TZID=America/New_York:20230715T170000
DTEND;TZID=America/New_York:20230715T200000
DTSTAMP:20260423T230919
CREATED:20230629T032640Z
LAST-MODIFIED:20230629T032640Z
UID:4261-1689440400-1689451200@renovoheritage.org
SUMMARY:Movie Night
DESCRIPTION:(Check back for details) \nThis is a free event open to the public.
URL:https://renovoheritage.org/event/movie-night/
LOCATION:Heritage Park Lot A\, 530 Erie Avenue\, Renovo\, 17764\, United States
CATEGORIES:Public Service Event
ORGANIZER;CN="Greater Renovo Area Heritage Park":MAILTO:marketing@renovoheritage.org
END:VEVENT
BEGIN:VEVENT
DTSTART;TZID=America/New_York:20230624T100000
DTEND;TZID=America/New_York:20230624T160000
DTSTAMP:20260423T230919
CREATED:20230124T231833Z
LAST-MODIFIED:20230629T003832Z
UID:2600-1687600800-1687622400@renovoheritage.org
SUMMARY:The Greater Renovo Area Heritage Festival
DESCRIPTION:From County Cork\, Ireland to Irish Acre in Renovo… We are celebrating our Irish Heritage! Join us for a day of story-telling\, live music\, food\, and entertainment as we explore the story of our area’s Irish Heritage! \nFor information\, contact:\nTracy Shady at: (570) 755-1324 / tshady@renovoheritage.org \nMary George Rhone at: (570) 927-0117 / mrhone@renovoheritage.org \nFor UPDATES:\nVisit our website at: https://renovoheritage.org and Facebook page:  https://www.facebook.com/renovoheritage
URL:https://renovoheritage.org/event/the-greater-renovo-area-heritage-festival/
LOCATION:PA
CATEGORIES:Public Service Event
END:VEVENT
END:VCALENDAR