BEGIN:VCALENDAR
VERSION:2.0
PRODID:-//The Greater Renovo Area Heritage Park - ECPv6.15.20//NONSGML v1.0//EN
CALSCALE:GREGORIAN
METHOD:PUBLISH
X-WR-CALNAME:The Greater Renovo Area Heritage Park
X-ORIGINAL-URL:https://renovoheritage.org
X-WR-CALDESC:Events for The Greater Renovo Area Heritage Park
REFRESH-INTERVAL;VALUE=DURATION:PT1H
X-Robots-Tag:noindex
X-PUBLISHED-TTL:PT1H
BEGIN:VTIMEZONE
TZID:America/New_York
BEGIN:DAYLIGHT
TZOFFSETFROM:-0500
TZOFFSETTO:-0400
TZNAME:EDT
DTSTART:20200308T070000
END:DAYLIGHT
BEGIN:STANDARD
TZOFFSETFROM:-0400
TZOFFSETTO:-0500
TZNAME:EST
DTSTART:20201101T060000
END:STANDARD
BEGIN:DAYLIGHT
TZOFFSETFROM:-0500
TZOFFSETTO:-0400
TZNAME:EDT
DTSTART:20210314T070000
END:DAYLIGHT
BEGIN:STANDARD
TZOFFSETFROM:-0400
TZOFFSETTO:-0500
TZNAME:EST
DTSTART:20211107T060000
END:STANDARD
BEGIN:DAYLIGHT
TZOFFSETFROM:-0500
TZOFFSETTO:-0400
TZNAME:EDT
DTSTART:20220313T070000
END:DAYLIGHT
BEGIN:STANDARD
TZOFFSETFROM:-0400
TZOFFSETTO:-0500
TZNAME:EST
DTSTART:20221106T060000
END:STANDARD
BEGIN:DAYLIGHT
TZOFFSETFROM:-0500
TZOFFSETTO:-0400
TZNAME:EDT
DTSTART:20230312T070000
END:DAYLIGHT
BEGIN:STANDARD
TZOFFSETFROM:-0400
TZOFFSETTO:-0500
TZNAME:EST
DTSTART:20231105T060000
END:STANDARD
BEGIN:DAYLIGHT
TZOFFSETFROM:-0500
TZOFFSETTO:-0400
TZNAME:EDT
DTSTART:20240310T070000
END:DAYLIGHT
BEGIN:STANDARD
TZOFFSETFROM:-0400
TZOFFSETTO:-0500
TZNAME:EST
DTSTART:20241103T060000
END:STANDARD
END:VTIMEZONE
BEGIN:VEVENT
DTSTART;TZID=America/New_York:20230624T100000
DTEND;TZID=America/New_York:20230624T160000
DTSTAMP:20260424T083721
CREATED:20230124T231833Z
LAST-MODIFIED:20230629T003832Z
UID:2600-1687600800-1687622400@renovoheritage.org
SUMMARY:The Greater Renovo Area Heritage Festival
DESCRIPTION:From County Cork\, Ireland to Irish Acre in Renovo… We are celebrating our Irish Heritage! Join us for a day of story-telling\, live music\, food\, and entertainment as we explore the story of our area’s Irish Heritage! \nFor information\, contact:\nTracy Shady at: (570) 755-1324 / tshady@renovoheritage.org \nMary George Rhone at: (570) 927-0117 / mrhone@renovoheritage.org \nFor UPDATES:\nVisit our website at: https://renovoheritage.org and Facebook page:  https://www.facebook.com/renovoheritage
URL:https://renovoheritage.org/event/the-greater-renovo-area-heritage-festival/
LOCATION:PA
CATEGORIES:Public Service Event
END:VEVENT
BEGIN:VEVENT
DTSTART;TZID=America/New_York:20230528T140000
DTEND;TZID=America/New_York:20230528T150000
DTSTAMP:20260424T083721
CREATED:20230124T230622Z
LAST-MODIFIED:20230629T003904Z
UID:2598-1685282400-1685286000@renovoheritage.org
SUMMARY:"FLY-BOYS" of WWII" Mural Dedication
DESCRIPTION:Join us for the dedication and unveiling of a 10 foot by 10 foot digital mural honoring Renovo Area Veterans!\nThe Greater Renovo Area Heritage Park has commissioned local artist\, Robert “Haney” Calhoun to create a tribute to the stories of local women and men who were members of bomber crews during World War Two. Click here for more information.\n \n Watch for updates here and on the Greater Renovo Area Heritage Park Facebook group. \nPlease Donate\nWe are seeking donations to offset the cost of the project. \nAny monetary donation is appreciated and can be sent to:\nThe Greater Renovo Area Heritage Park\, 530 Erie Avenue\, Renovo\, PA 17764. \n  \nMake checks payable to “GRAHP” or…Donate electronically.(Click the banner.)\n  \nWatch This YouTube Video by NBC NEWS LEARN:\nChronicles of Courage – B-17 and the Ball Turret (Duration – 5:20 )\nFor information\, contact: \nMary George Rhone at: (570) 927-0117 / mrhone@renovoheritage.org \nTracy Shady at: (570) 755-1324 / tshady@renovoheritage.org \nFor UPDATES:\nVisit our website at: https://renovoheritage.org \nFacebook page:  https://www.facebook.com/renovoheritage
URL:https://renovoheritage.org/event/fly-boys-of-wwii-mural-dedication/
LOCATION:Tony’s Hardware Store\, 621 Huron Ave\, Renovo\, PA\, 17764\, United States
CATEGORIES:Public Service Event
ORGANIZER;CN="Greater Renovo Area Heritage Park":MAILTO:marketing@renovoheritage.org
END:VEVENT
BEGIN:VEVENT
DTSTART;TZID=America/New_York:20230429T100000
DTEND;TZID=America/New_York:20230429T160000
DTSTAMP:20260424T083721
CREATED:20230124T195725Z
LAST-MODIFIED:20230629T003944Z
UID:2593-1682762400-1682784000@renovoheritage.org
SUMMARY:Annual Vendor Fair and Ham Pot Pie Sale
DESCRIPTION:Kick off the Spring 2023 Festival Season at our annual “Vendor Fair and Ham Pot Pie Sale.”  \nFor information\, contact: \nMary George Rhone at: (570) 927-0117 / mrhone@renovoheritage.org \nTracy Shady at: (570) 755-1324 / tshady@renovoheritage.org \nProceeds benefit Heritage Park projects and programs.
URL:https://renovoheritage.org/event/annual-vendor-fair-and-ham-pot-pie-sale/
LOCATION:The Greater Renovo Area Heritage Park\, 530 Erie Avenue\, Renovo\, PA\, 17764\, United States
CATEGORIES:Fundraising Event,Public Service Event
END:VEVENT
BEGIN:VEVENT
DTSTART;TZID=America/New_York:20230304T180000
DTEND;TZID=America/New_York:20230304T200000
DTSTAMP:20260424T083721
CREATED:20230123T143233Z
LAST-MODIFIED:20230629T004014Z
UID:2581-1677952800-1677960000@renovoheritage.org
SUMMARY:“Murder On The Dance Floor”
DESCRIPTION:SOLD OUT!\n\nWow! This year we have a real treat for you!\nIt’s the 1950s\, Small-town USA\, and Flo’s Diner is the place to be!\nTonight is the town’s annual Dance-Off!\nCome dressed in your best 50s attire and help Detective Hudson decide\nwho committed murder on the dance floor!\nUPDATES: https://www.facebook.com/renovoheritage \nFor information\, contact Tracy Shady at: (570) 755-1324 / tshady@renovoheritage.org
URL:https://renovoheritage.org/event/murder-on-the-dance-floor/
LOCATION:Chapman Volunteer Fire Company\, North Bend\, PA\, 17760\, United States
CATEGORIES:Fundraising Event
ORGANIZER;CN="Greater Renovo Area Heritage Park":MAILTO:marketing@renovoheritage.org
END:VEVENT
BEGIN:VEVENT
DTSTART;TZID=America/New_York:20230123T180000
DTEND;TZID=America/New_York:20230123T183000
DTSTAMP:20260424T083721
CREATED:20230123T003202Z
LAST-MODIFIED:20230629T004056Z
UID:2575-1674496800-1674498600@renovoheritage.org
SUMMARY:Vintage Rifle Raffle Kickoff
DESCRIPTION:Tune in to the Greater Renovo Area Heritage Park Facebook page for a live introduction of a beautifully engraved anniversary .22 lever action “Golden Boy” rifle that will be raffled off at the 2023 Flaming Foliage Festival. \n \nBarrel Length – 20″\nBarrel Type. – Octagon Blued Steel\nRate of Twist – 1:16\nOverall Length – 38.5″\nWeight – 6.75 lbs.\nReceiver Finish – Brasslite\nRear Site – Fully Adj. Semi-Buckhorn w /Diamond Insert\nFront Site – Brass Bead\nScopeability – Drilled and Tapped\nScope Mount Type – GB-CSM\nStock Material – American Walnut\nButtplate / Pad – Brass\nLength of Pull – 14″\nSafety – 1/4 Cock\nBest Uses – Target/Hunting/Collector
URL:https://renovoheritage.org/event/vintage-rifle-raffle-kickoff/
LOCATION:PA
CATEGORIES:Fundraising Event
ORGANIZER;CN="Greater Renovo Area Heritage Park":MAILTO:marketing@renovoheritage.org
END:VEVENT
BEGIN:VEVENT
DTSTART;TZID=America/New_York:20221015T100000
DTEND;TZID=America/New_York:20221015T133000
DTSTAMP:20260424T083721
CREATED:20220916T113400Z
LAST-MODIFIED:20230629T004128Z
UID:2505-1665828000-1665840600@renovoheritage.org
SUMMARY:Greater Renovo Area Heritage Park  Pre-Parade Party
DESCRIPTION:Hang out with us on Erie Avenue before the 2022 Flaming Foliage Festival Parade! \nEnjoy the Classic Rock Revival concert from 11-1:30.   \nStay warm with delicious Ham Pot Pie and Meatball sandwiches. \n 
URL:https://renovoheritage.org/event/heritage-park-pre-parade-party/
LOCATION:The Greater Renovo Area Heritage Park\, 530 Erie Avenue\, Renovo\, PA\, 17764\, United States
CATEGORIES:Fundraising Event,Public Service Event
ORGANIZER;CN="Greater Renovo Area Heritage Park":MAILTO:marketing@renovoheritage.org
END:VEVENT
BEGIN:VEVENT
DTSTART;TZID=America/New_York:20220929T190000
DTEND;TZID=America/New_York:20220929T200000
DTSTAMP:20260424T083721
CREATED:20220916T052614Z
LAST-MODIFIED:20220923T054301Z
UID:2496-1664478000-1664481600@renovoheritage.org
SUMMARY:Heritage Park Board Meeting
DESCRIPTION:The board meeting for this month has been moved to September 29\, 2022.
URL:https://renovoheritage.org/event/heritage-park-board-meeting/
LOCATION:The Greater Renovo Area Heritage Park\, 530 Erie Avenue\, Renovo\, PA\, 17764\, United States
CATEGORIES:Board Meeting
ORGANIZER;CN="Greater Renovo Area Heritage Park":MAILTO:marketing@renovoheritage.org
END:VEVENT
BEGIN:VEVENT
DTSTART;TZID=America/New_York:20220925T160000
DTEND;TZID=America/New_York:20220925T190000
DTSTAMP:20260424T083721
CREATED:20220916T104808Z
LAST-MODIFIED:20220916T201755Z
UID:2498-1664121600-1664132400@renovoheritage.org
SUMMARY:Concert : Evan Dillon Band
DESCRIPTION:Sept. 25\, 2022 – Greater Renovo Area Heritage Park & Clinton County Community Foundation concert featuring the Evan Dillon Band! Based out of Upstate\, NY Evan Dillon has been a well-known musician and vocalist in the Finger Lakes area for over a decade\, through a wide range of musical genres. Now focusing on Rock\, Blues\, and his own strange interpretation of them all mixed together\, he has found his place as a singer and more importantly\, as a songwriter. Evan has the pleasure of having some of the most talented musicians of the area support him when he plays with either the full band or even himself and one other in a more “stripped down” type set. Visit the EVAN DILLON  Website for more about the band. \n  \nThis performance is at the 16th Street Community Park in Renovo\, PA.  4 – 7 pm.  Summer Concert Sponsors: Smith Excavating\, Chapman Township\, Noyes Township\, the American Legion Post #442 \, South Renovo Borough\, and Renovo Borough.
URL:https://renovoheritage.org/event/concert-evan-dillon-band/
LOCATION:16th Street Community Park\, 16th Street\, Renovo\, PA\, 17764
ORGANIZER;CN="Greater Renovo Area Heritage Park":MAILTO:marketing@renovoheritage.org
END:VEVENT
BEGIN:VEVENT
DTSTART;TZID=America/New_York:20220918T160000
DTEND;TZID=America/New_York:20220918T190000
DTSTAMP:20260424T083721
CREATED:20220916T044004Z
LAST-MODIFIED:20220916T211144Z
UID:2489-1663516800-1663527600@renovoheritage.org
SUMMARY:Logan Route Concert
DESCRIPTION:Sept. 15\, 2022 – Greater Renovo Area Heritage Park & Clinton County Community Foundation concert featuring Logan Route! \nLogan Route was born in the small town of Canton and now lives in Wellsboro.\nAt the Age of 4 he fell in love with singing and then he taught himself to play the guitar and piano. He started performing in 2016. Logan plays mostly County Music from Classic to Modern and he really loves to connect to his audience! \n“Guide Me Home” by Logan Route. \nThe performance is at 16th Street Community Park in Renovo\, PA. 4 – 7 pm. Summer Concert Sponsors: Smith Excavating\, Chapman Township\, Noyes Township\, the American Legion Post #442 \, South Renovo Borough\, and Renovo Borough.
URL:https://renovoheritage.org/event/logan-route-concert/
LOCATION:16th Street Community Park\, 16th Street\, Renovo\, PA\, 17764
CATEGORIES:Public Service Event
ORGANIZER;CN="Greater Renovo Area Heritage Park":MAILTO:marketing@renovoheritage.org
END:VEVENT
BEGIN:VEVENT
DTSTART;VALUE=DATE:20220616
DTEND;VALUE=DATE:20220619
DTSTAMP:20260424T083721
CREATED:20220512T150955Z
LAST-MODIFIED:20220512T152318Z
UID:2135-1655337600-1655596799@renovoheritage.org
SUMMARY:Renovo Area Heritage Days 2022
DESCRIPTION:Join us from Thursday\, June 16\, 2022 through Saturday\, June 18th 2022 for our annual Renovo Area Heritage Days 2022! This year\, we will host vendors\, proclamations\, General Grant\, a mural dedication\, Van Wagner\, QR Quests\, bed races\, basket raffles\, and so much more! View our Renovo Area Heritage Days web page for more information. \nFor more information\, please contact the Greater Renovo Area Heritage Park at 570-484-7000 or marketing@renovoheritage.org. \nEvent is sponsored by The Greater Renovo Area Heritage Park.
URL:https://renovoheritage.org/event/renovo-area-heritage-days-2022/
LOCATION:The Greater Renovo Area Heritage Park\, 530 Erie Avenue\, Renovo\, PA\, 17764\, United States
END:VEVENT
BEGIN:VEVENT
DTSTART;VALUE=DATE:20211119
DTEND;VALUE=DATE:20211120
DTSTAMP:20260424T083721
CREATED:20211005T152147Z
LAST-MODIFIED:20211005T152147Z
UID:1992-1637280000-1637366399@renovoheritage.org
SUMMARY:Black Friday Raffle 2021
DESCRIPTION:Friday\, November 19th\nLive Drawing on our Facebook Page. Need not to be present to win. \n1st Prize: $500.00\n2nd Prize: $250.00\n3rd Prize: $100.00\n3rd Prize: $50.00 \n$5.00 Donation\nPlease send money through PayPal at: treasurer@renovoheritage.org.\nMemo: please check “send to a friend”
URL:https://renovoheritage.org/event/black-friday-raffle-2021/
LOCATION:The Greater Renovo Area Heritage Park\, 530 Erie Avenue\, Renovo\, PA\, 17764\, United States
END:VEVENT
BEGIN:VEVENT
DTSTART;TZID=America/New_York:20211031T160000
DTEND;TZID=America/New_York:20211031T200000
DTSTAMP:20260424T083721
CREATED:20211020T151739Z
LAST-MODIFIED:20211020T151920Z
UID:2015-1635696000-1635710400@renovoheritage.org
SUMMARY:Happy Halloween Party 2021
DESCRIPTION:The Greater Renovo Area Heritage Park presents a Happy Halloween Party! Join us on October 31st from 4:00-8:00 p.m. at the Heritage Park. \nGhost Tours (12 & older) 4:00-6:00 p.m.\nKids Activities 6:00-8:00 p.m.\nTrunk or Treat!\nPhoto Station & Music! \nFree Popcorn\, Hot Chocolate\, Hot or Cold Apple Cider\, and Candy!
URL:https://renovoheritage.org/event/happy-halloween-party-2021/
LOCATION:The Greater Renovo Area Heritage Park\, 530 Erie Avenue\, Renovo\, PA\, 17764\, United States
END:VEVENT
END:VCALENDAR