BEGIN:VCALENDAR
VERSION:2.0
PRODID:-//The Greater Renovo Area Heritage Park - ECPv6.15.20//NONSGML v1.0//EN
CALSCALE:GREGORIAN
METHOD:PUBLISH
X-WR-CALNAME:The Greater Renovo Area Heritage Park
X-ORIGINAL-URL:https://renovoheritage.org
X-WR-CALDESC:Events for The Greater Renovo Area Heritage Park
REFRESH-INTERVAL;VALUE=DURATION:PT1H
X-Robots-Tag:noindex
X-PUBLISHED-TTL:PT1H
BEGIN:VTIMEZONE
TZID:America/New_York
BEGIN:DAYLIGHT
TZOFFSETFROM:-0500
TZOFFSETTO:-0400
TZNAME:EDT
DTSTART:20250309T070000
END:DAYLIGHT
BEGIN:STANDARD
TZOFFSETFROM:-0400
TZOFFSETTO:-0500
TZNAME:EST
DTSTART:20251102T060000
END:STANDARD
BEGIN:DAYLIGHT
TZOFFSETFROM:-0500
TZOFFSETTO:-0400
TZNAME:EDT
DTSTART:20260308T070000
END:DAYLIGHT
BEGIN:STANDARD
TZOFFSETFROM:-0400
TZOFFSETTO:-0500
TZNAME:EST
DTSTART:20261101T060000
END:STANDARD
BEGIN:DAYLIGHT
TZOFFSETFROM:-0500
TZOFFSETTO:-0400
TZNAME:EDT
DTSTART:20270314T070000
END:DAYLIGHT
BEGIN:STANDARD
TZOFFSETFROM:-0400
TZOFFSETTO:-0500
TZNAME:EST
DTSTART:20271107T060000
END:STANDARD
END:VTIMEZONE
BEGIN:VEVENT
DTSTART;TZID=America/New_York:20260913T140000
DTEND;TZID=America/New_York:20260913T150000
DTSTAMP:20260423T182225
CREATED:20260208T124952Z
LAST-MODIFIED:20260208T124952Z
UID:5705-1789308000-1789311600@renovoheritage.org
SUMMARY:Genealogy Monthly Meeting - September 2026
DESCRIPTION:Genealogy meetings are the second Sunday of every month at 2:00 p.m. at the Renovo Library. \n\n\n\n\n\n\nThis event is open to the public. \nDate and Time:\nSeptember 13\, 2026\n2:00 p.m. \nLocation:\nRenovo Library\n317 7th Street\nRenovo\, PA 17764\nDirections \n\nFor more information:\nContact the Greater Renovo Area Heritage Park at 570-484-7000 or marketing@renovoheritage.org. \nEvent is sponsored by The Greater Renovo Area Heritage Park.
URL:https://renovoheritage.org/event/genealogy-monthly-meeting-september-2026/
LOCATION:PA
END:VEVENT
BEGIN:VEVENT
DTSTART;TZID=America/New_York:20261011T140000
DTEND;TZID=America/New_York:20261011T150000
DTSTAMP:20260423T182225
CREATED:20260208T125031Z
LAST-MODIFIED:20260208T125031Z
UID:5706-1791727200-1791730800@renovoheritage.org
SUMMARY:Genealogy Monthly Meeting - October 2026
DESCRIPTION:Genealogy meetings are the second Sunday of every month at 2:00 p.m. at the Renovo Library. \n\n\n\n\n\n\nThis event is open to the public. \nDate and Time:\nOctober 11\, 2026\n2:00 p.m. \nLocation:\nRenovo Library\n317 7th Street\nRenovo\, PA 17764\nDirections \n\nFor more information:\nContact the Greater Renovo Area Heritage Park at 570-484-7000 or marketing@renovoheritage.org. \nEvent is sponsored by The Greater Renovo Area Heritage Park.
URL:https://renovoheritage.org/event/genealogy-monthly-meeting-october-2026/
LOCATION:PA
END:VEVENT
BEGIN:VEVENT
DTSTART;TZID=America/New_York:20261108T140000
DTEND;TZID=America/New_York:20261108T150000
DTSTAMP:20260423T182225
CREATED:20260208T125259Z
LAST-MODIFIED:20260208T125259Z
UID:5707-1794146400-1794150000@renovoheritage.org
SUMMARY:Genealogy Monthly Meeting - November 2026
DESCRIPTION:Genealogy meetings are the second Sunday of every month at 2:00 p.m. at the Renovo Library. \n\n\n\n\n\n\nThis event is open to the public. \nDate and Time:\nNovember 8\, 2026\n2:00 p.m. \nLocation:\nRenovo Library\n317 7th Street\nRenovo\, PA 17764\nDirections \n\nFor more information:\nContact the Greater Renovo Area Heritage Park at 570-484-7000 or marketing@renovoheritage.org. \nEvent is sponsored by The Greater Renovo Area Heritage Park.
URL:https://renovoheritage.org/event/genealogy-monthly-meeting-november-2026/
LOCATION:PA
END:VEVENT
BEGIN:VEVENT
DTSTART;TZID=America/New_York:20261213T140000
DTEND;TZID=America/New_York:20261213T150000
DTSTAMP:20260423T182225
CREATED:20260208T125422Z
LAST-MODIFIED:20260208T125422Z
UID:5708-1797170400-1797174000@renovoheritage.org
SUMMARY:Genealogy Monthly Meeting - December 2026
DESCRIPTION:Genealogy meetings are the second Sunday of every month at 2:00 p.m. at the Renovo Library. \n\n\n\n\n\n\nThis event is open to the public. \nDate and Time:\nDecember 13\, 2026\n2:00 p.m. \nLocation:\nRenovo Library\n317 7th Street\nRenovo\, PA 17764\nDirections \n\nFor more information:\nContact the Greater Renovo Area Heritage Park at 570-484-7000 or marketing@renovoheritage.org. \nEvent is sponsored by The Greater Renovo Area Heritage Park.
URL:https://renovoheritage.org/event/genealogy-monthly-meeting-december-2026/
LOCATION:PA
END:VEVENT
END:VCALENDAR