BEGIN:VCALENDAR
VERSION:2.0
PRODID:-//The Greater Renovo Area Heritage Park - ECPv6.15.20//NONSGML v1.0//EN
CALSCALE:GREGORIAN
METHOD:PUBLISH
X-WR-CALNAME:The Greater Renovo Area Heritage Park
X-ORIGINAL-URL:https://renovoheritage.org
X-WR-CALDESC:Events for The Greater Renovo Area Heritage Park
REFRESH-INTERVAL;VALUE=DURATION:PT1H
X-Robots-Tag:noindex
X-PUBLISHED-TTL:PT1H
BEGIN:VTIMEZONE
TZID:America/New_York
BEGIN:DAYLIGHT
TZOFFSETFROM:-0500
TZOFFSETTO:-0400
TZNAME:EDT
DTSTART:20230312T070000
END:DAYLIGHT
BEGIN:STANDARD
TZOFFSETFROM:-0400
TZOFFSETTO:-0500
TZNAME:EST
DTSTART:20231105T060000
END:STANDARD
BEGIN:DAYLIGHT
TZOFFSETFROM:-0500
TZOFFSETTO:-0400
TZNAME:EDT
DTSTART:20240310T070000
END:DAYLIGHT
BEGIN:STANDARD
TZOFFSETFROM:-0400
TZOFFSETTO:-0500
TZNAME:EST
DTSTART:20241103T060000
END:STANDARD
BEGIN:DAYLIGHT
TZOFFSETFROM:-0500
TZOFFSETTO:-0400
TZNAME:EDT
DTSTART:20250309T070000
END:DAYLIGHT
BEGIN:STANDARD
TZOFFSETFROM:-0400
TZOFFSETTO:-0500
TZNAME:EST
DTSTART:20251102T060000
END:STANDARD
BEGIN:DAYLIGHT
TZOFFSETFROM:-0500
TZOFFSETTO:-0400
TZNAME:EDT
DTSTART:20260308T070000
END:DAYLIGHT
BEGIN:STANDARD
TZOFFSETFROM:-0400
TZOFFSETTO:-0500
TZNAME:EST
DTSTART:20261101T060000
END:STANDARD
BEGIN:DAYLIGHT
TZOFFSETFROM:-0500
TZOFFSETTO:-0400
TZNAME:EDT
DTSTART:20270314T070000
END:DAYLIGHT
BEGIN:STANDARD
TZOFFSETFROM:-0400
TZOFFSETTO:-0500
TZNAME:EST
DTSTART:20271107T060000
END:STANDARD
END:VTIMEZONE
BEGIN:VEVENT
DTSTART;TZID=America/New_York:20260412T140000
DTEND;TZID=America/New_York:20260412T150000
DTSTAMP:20260423T195242
CREATED:20260208T124403Z
LAST-MODIFIED:20260208T124403Z
UID:5700-1776002400-1776006000@renovoheritage.org
SUMMARY:Genealogy Monthly Meeting - April 2026
DESCRIPTION:Genealogy meetings are the second Sunday of every month at 2:00 p.m. at the Renovo Library. \n\n\n\n\n\n\nThis event is open to the public. \nDate and Time:\nApril 12\, 2026\n2:00 p.m. \nLocation:\nRenovo Library\n317 7th Street\nRenovo\, PA 17764\nDirections \n\nFor more information:\nContact the Greater Renovo Area Heritage Park at 570-484-7000 or marketing@renovoheritage.org. \nEvent is sponsored by The Greater Renovo Area Heritage Park.
URL:https://renovoheritage.org/event/genealogy-monthly-meeting-april-2026/
LOCATION:PA
END:VEVENT
BEGIN:VEVENT
DTSTART;VALUE=DATE:20260411
DTEND;VALUE=DATE:20260412
DTSTAMP:20260423T195242
CREATED:20260204T200853Z
LAST-MODIFIED:20260204T200853Z
UID:5684-1775865600-1775951999@renovoheritage.org
SUMMARY:Ham Pot Pie and Cornhole 2026
DESCRIPTION:Save-the-date! Information coming soon! \nThis event is open to the public. \nDate and Time:\nApril 11\, 2026\n \nLocation:\n  \n\nGet Involved: \nInterested in getting involved? Learn How \n\nFor more information:\nContact the Greater Renovo Area Heritage Park at 570-484-7000 or marketing@renovoheritage.org. \nEvent is sponsored by The Greater Renovo Area Heritage Park.
URL:https://renovoheritage.org/event/ham-pot-pie-and-cornhole-2026/
LOCATION:PA
END:VEVENT
BEGIN:VEVENT
DTSTART;VALUE=DATE:20260321
DTEND;VALUE=DATE:20260322
DTSTAMP:20260423T195242
CREATED:20260204T200810Z
LAST-MODIFIED:20260204T200810Z
UID:5676-1774051200-1774137599@renovoheritage.org
SUMMARY:Adult Murder Mystery 2026
DESCRIPTION:Save-the-date! Information coming soon! \nThis event is open to the public. \nDate and Time:\nMarch 21\, 2026\n \nLocation:\nElks \n\nGet Involved: \nInterested in getting involved? Learn How \n\nFor more information:\nContact the Greater Renovo Area Heritage Park at 570-484-7000 or marketing@renovoheritage.org. \nEvent is sponsored by The Greater Renovo Area Heritage Park.
URL:https://renovoheritage.org/event/adult-murder-mystery-2026/
LOCATION:PA
END:VEVENT
BEGIN:VEVENT
DTSTART;TZID=America/New_York:20260308T140000
DTEND;TZID=America/New_York:20260308T150000
DTSTAMP:20260423T195242
CREATED:20260208T124245Z
LAST-MODIFIED:20260208T124245Z
UID:5699-1772978400-1772982000@renovoheritage.org
SUMMARY:Genealogy Monthly Meeting - March 2026
DESCRIPTION:Genealogy meetings are the second Sunday of every month at 2:00 p.m. at the Renovo Library. \n\n\n\n\n\n\nThis event is open to the public. \nDate and Time:\nMarch 8\, 2026\n2:00 p.m. \nLocation:\nRenovo Library\n317 7th Street\nRenovo\, PA 17764\nDirections \n\nFor more information:\nContact the Greater Renovo Area Heritage Park at 570-484-7000 or marketing@renovoheritage.org. \nEvent is sponsored by The Greater Renovo Area Heritage Park.
URL:https://renovoheritage.org/event/genealogy-monthly-meeting-march-2026/
LOCATION:PA
END:VEVENT
BEGIN:VEVENT
DTSTART;VALUE=DATE:20260221
DTEND;VALUE=DATE:20260222
DTSTAMP:20260423T195242
CREATED:20260204T200627Z
LAST-MODIFIED:20260204T200627Z
UID:5674-1771632000-1771718399@renovoheritage.org
SUMMARY:Snowball Stroll and Winter Fest 2026
DESCRIPTION:Save-the-date! Information coming soon! \nThis event is open to the public. \nDate and Time:\nFebruary 21\, 2026\n \nLocation:\nQuiet Oaks Campground \n\nGet Involved: \nInterested in getting involved? Learn How \n\nFor more information:\nContact the Greater Renovo Area Heritage Park at 570-484-7000 or marketing@renovoheritage.org. \nEvent is sponsored by The Greater Renovo Area Heritage Park.
URL:https://renovoheritage.org/event/snowball-stroll-and-winter-fest-2026/
LOCATION:PA
END:VEVENT
BEGIN:VEVENT
DTSTART;TZID=America/New_York:20260208T140000
DTEND;TZID=America/New_York:20260208T153000
DTSTAMP:20260423T195242
CREATED:20260208T123943Z
LAST-MODIFIED:20260208T123943Z
UID:5696-1770559200-1770564600@renovoheritage.org
SUMMARY:Genealogy Monthly Meeting - February 2026
DESCRIPTION:Genealogy meetings are the second Sunday of every month at 2:00 p.m. at the Renovo Library. \n\n\n\n\n\n\nThis event is open to the public. \nDate and Time:\nFebruary 8\, 2026\n2:00 p.m. \nLocation:\nRenovo Library\n317 7th Street\nRenovo\, PA 17764\nDirections \n\nFor more information:\nContact the Greater Renovo Area Heritage Park at 570-484-7000 or marketing@renovoheritage.org. \nEvent is sponsored by The Greater Renovo Area Heritage Park.
URL:https://renovoheritage.org/event/genealogy-monthly-meeting-february-2026/
LOCATION:PA
END:VEVENT
BEGIN:VEVENT
DTSTART;TZID=America/New_York:20250725T110000
DTEND;TZID=America/New_York:20250725T150000
DTSTAMP:20260423T195242
CREATED:20250723T134836Z
LAST-MODIFIED:20250723T135226Z
UID:5549-1753441200-1753455600@renovoheritage.org
SUMMARY:2025 Renovo Heritage Days
DESCRIPTION:Join us on Saturday\, July 25\, 2025 in the old Maxwell Building for a celebration of German heritage in the Renovo area! \nEnjoy a fascinating look into Renovo’s roots with stories of early German settlers like Simeon Pfoutz\, and local businesses like Binder’s Brewery that helped shape our community.\n\nSit in on a special panel discussion about Renovo’s German heritage\, featuring hometown voices April Kelley\, Bernie Greene\, and more.\n\nAnd don’t miss the taste of authentic German cooking\, prepared by Claudia Botsford and Margaret Riggle\, a true highlight of the day!\n\nBring your family\, your friends\, and your appetite for a day that honors the rich German spirit of our region!\nThis event is open to the public. \nDate and Time:\nSaturday\, July 25\, 2025\nThe event is from 11:00 a.m. – 3:00 p.m.\n \nLocation:\nRenovo Area Heritage Park HQ\n530 Erie Avenue\, Renovo\, PA 17764 \n\nGet Involved: \nInterested in getting involved? Learn How \n\nFor more information:\nContact the Greater Renovo Area Heritage Park at 570-484-7000 or marketing@renovoheritage.org. \nEvent is sponsored by The Greater Renovo Area Heritage Park.\nProceeds benefit The Bucktail High School Band and Boosters.
URL:https://renovoheritage.org/event/2025-renovo-heritage-days/
LOCATION:PA
ATTACH;FMTTYPE=image/jpeg:https://renovoheritage.org/wp-content/uploads/2025/07/German-flag.jpg
END:VEVENT
BEGIN:VEVENT
DTSTART;TZID=America/New_York:20250426T110000
DTEND;TZID=America/New_York:20250426T150000
DTSTAMP:20260423T195242
CREATED:20250410T122102Z
LAST-MODIFIED:20250422T013549Z
UID:5532-1745665200-1745679600@renovoheritage.org
SUMMARY:-POSTPONED- 2025 Annual Ham Pot Pie Sale and Corn Hole Tournament
DESCRIPTION:Join us on Saturday\, April 26\, 2025 at 12:30 p.m. with a warm-up and registration beginning at 11:00 a.m. for our Annual Corn Hole Tournament and Pot Pie Sale! Challenge yourself and others to a round of corn hole and buy pie for dinner! $6.00 for 12 ounce pot pie. There will also be Rip Tickets\, 50/50\, and a raffle basket. \nThis event is open to the public. \nDate and Time:\nSaturday\, April 26\, 2025 with warm-up and registration at 11:00 a.m.\, games to start at 12:30 p.m. \nLocation:\nThe Greater Renovo Area Heritage Park Maxwell Building\n530 Erie Avenue\, Renovo\, PA 17764 \n\nGet Involved: \nInterested in getting involved? Learn How \n\nFor more information:\nContact the Greater Renovo Area Heritage Park at 570-484-7000 or marketing@renovoheritage.org. \nEvent is sponsored by The Greater Renovo Area Heritage Park.\nProceeds benefit The Greater Renovo Area Heritage Park.
URL:https://renovoheritage.org/event/2025-annual-ham-pot-pie-sale-and-corn-hole-tournament/
LOCATION:PA
ATTACH;FMTTYPE=image/jpeg:https://renovoheritage.org/wp-content/uploads/2025/04/Corn-Hole-Tournament-Renovo-Heritage-Park-2025.jpg
END:VEVENT
BEGIN:VEVENT
DTSTART;TZID=America/New_York:20250412T170000
DTEND;TZID=America/New_York:20250412T200000
DTSTAMP:20260423T195242
CREATED:20250224T044344Z
LAST-MODIFIED:20250305T145607Z
UID:5512-1744477200-1744488000@renovoheritage.org
SUMMARY:2025 Annual Murder Mystery Play
DESCRIPTION:Join the Renovo Heritage Park Players on Saturday\, March 22\, 2025 on the 2nd floor of the Elks Lodge in Renovo\, PA for It Happened in East Keating. \nThere will also be raffles and musical selections throughout the performance. \nThis event is open to the public. \nDate and Time:\nSaturday\, April 12\, 2025\nSocial hour is from 5:00 – 6:00 p.m. A turkey dinner will be served between Act 1 and 2.\n \nLocation:\nElks Lodge in Renovo\, PA\n118 4th Street\, Renovo\, PA 17764 \nTickets:\nCost of admission is $30 a person and includes dinner. \nPurchase your tickets online! \nFor ticket reservations\, please call Mary George Rhone at 570-927-0117. \nSome tickets may be available at the door. Purchase your ticket online or reserve to make sure you get your ticket before we sell out. \n\nGet Involved: \nInterested in getting involved? Learn How \n\nFor more information:\nContact the Greater Renovo Area Heritage Park at 570-484-7000 or marketing@renovoheritage.org. \nEvent is sponsored by The Greater Renovo Area Heritage Park.\nProceeds benefit The Bucktail High School Band and Boosters.
URL:https://renovoheritage.org/event/2025-annual-murder-mystery-play/
LOCATION:PA
ATTACH;FMTTYPE=image/jpeg:https://renovoheritage.org/wp-content/uploads/2025/02/GRAHP-Murder-Mystery-2025.jpg
END:VEVENT
BEGIN:VEVENT
DTSTART;TZID=America/New_York:20241117T000000
DTEND;TZID=America/New_York:20241117T000000
DTSTAMP:20260423T195242
CREATED:20240419T011319Z
LAST-MODIFIED:20240517T203557Z
UID:5281-1731801600-1731801600@renovoheritage.org
SUMMARY:2024 Black Friday Ticket Drawing
DESCRIPTION:Hold the date for the 2024 Black Friday Ticket Drawing! \nMore information coming soon. \nThis event is open to the public. \nDate and Time:\nSunday\, November 17 \nLocation: \nGreater Renovo Area Heritage Park \n\nGet Involved: \nInterested in getting involved? Learn How \n\nFor more information:\nContact the Greater Renovo Area Heritage Park at 570-484-7000 or marketing@renovoheritage.org. \nEvent is sponsored by The Greater Renovo Area Heritage Park.\nProceeds benefit The Greater Renovo Area Heritage Park.
URL:https://renovoheritage.org/event/2024-annual-black-friday-ticket-drawing/
LOCATION:PA
ATTACH;FMTTYPE=image/jpeg:https://renovoheritage.org/wp-content/uploads/2023/10/rainy-day-coffee.jpg
END:VEVENT
BEGIN:VEVENT
DTSTART;TZID=America/New_York:20240914T090000
DTEND;TZID=America/New_York:20240914T150000
DTSTAMP:20260423T195242
CREATED:20240419T011112Z
LAST-MODIFIED:20240816T180038Z
UID:5274-1726304400-1726326000@renovoheritage.org
SUMMARY:2024 Annual ATV Poker Ride - Whiskey Springs
DESCRIPTION:The Annual Whiskey Whiskey Springs ATV Poker Chip Run 2024 will be held on Saturday\, September 14 from 9 a.m. to 3 p.m. \nMore information\, including how to register\, can be found here. \nPoker Run Stops\nStop # SITE NAME LONGITUDE LATITUDE\n1 AREA 36 PARKING AREA -77.8687 41.3412\n2 BOYER LANE PARKING AREA -77.8657 41.3681\n3 H2 HELIPAD -77.887 41.3447\n4 HULING BRANCH PARKING AREA -77.858 41.3191\n5 H1 HELIPAD -77.8727 41.3469 \nThis event is open to the public. \nDate and Time:\nSaturday\, September 14 \nLocation: \nGreater Renovo Area Heritage Park \n\nGet Involved: \nInterested in getting involved? Learn How \n\nFor more information:\nContact the Greater Renovo Area Heritage Park at 570-484-7000 or marketing@renovoheritage.org. \nEvent is sponsored by The Greater Renovo Area Heritage Park.\nProceeds benefit The Greater Renovo Area Heritage Park.
URL:https://renovoheritage.org/event/2024-annual-atv-poker-ride-whiskey-springs/
LOCATION:PA
ATTACH;FMTTYPE=image/webp:https://renovoheritage.org/wp-content/uploads/2024/04/whiskey-springs-atv-poker-ride.webp
END:VEVENT
BEGIN:VEVENT
DTSTART;TZID=America/New_York:20240817T170000
DTEND;TZID=America/New_York:20240817T210000
DTSTAMP:20260423T195242
CREATED:20240419T010655Z
LAST-MODIFIED:20240812T130705Z
UID:5267-1723914000-1723928400@renovoheritage.org
SUMMARY:2024 Annual Teen Murder Mystery Play
DESCRIPTION:Join the Renovo Heritage Park Players on Saturday\, August 17\, 2024 on the 2nd floor of the Elks Lodge in Renovo\, PA for Echoes of Maxwells: A Teen Murder Mystery…and Musical Drama. The Heritage Park Players is an all-student cast\, who’s trying to solve the mystery and the ever-looming question\, “Is the Maxwell Building haunted?” \nThe show will be starring Kedda Bissman (Bucktail High School band member)\, Matthew Miles (Bucktail High School band member)\, Bucktail High School Student Government Representative\, Martin Lewis (also sound tech)\, Gemma Brauuns\, Emma Miles\, James McKee\, Aady Marr\, Thomas Shady\, and Aaron Probst. Also accompanying the troupe are four returning actors and guest singers Terry O’Laughlin and Autumn Gavlock. Teen singers include Kedda Bissman\, Matthew Miles\, Gemma Brauuns\, Emma Miles\, and Aaron Probst all singing songs from the 80s! \nThere will also be 50/50 tickets and a basket or two to be raffled off. \nThis event is open to the public. \nDate and Time:\nSaturday\, August 17\, 2024\nSocial hour is from 5:00 – 6:00 p.m. Dinner will be served at 6:00 p.m.\n \nLocation:\nElks Lodge in Renovo\, PA\n118 4th Street\, Renovo\, PA 17764 \nTickets:\nCost of admission is $25 a person and includes dinner: pulled pork\, macaroni salad\, pasta salad\, baked beans\, dessert\, and drink. \nPurchase your tickets online! \nTicket reservations must be made no later than Wednesday\, August 14\, 2024. For ticket reservations\, please call Mary George Rhone at 570-927-0117 or Tracy Shady at 570-755-1324. \nSome tickets may be available at the door. Purchase your ticket online or reserve to make sure you get your ticket before we sell out. \n\nGet Involved: \nInterested in getting involved? Learn How \n\nFor more information:\nContact the Greater Renovo Area Heritage Park at 570-484-7000 or marketing@renovoheritage.org. \nEvent is sponsored by The Greater Renovo Area Heritage Park.\nProceeds benefit The Bucktail High School Band and Boosters.
URL:https://renovoheritage.org/event/2024-annual-kids-murder-mystery-play/
LOCATION:PA
ATTACH;FMTTYPE=image/jpeg:https://renovoheritage.org/wp-content/uploads/2024/04/2024-Annual-Teen-Murder-Mystery-Play_The-Greater-Renovo-Area-Hertiage-Park.jpg
END:VEVENT
END:VCALENDAR