BEGIN:VCALENDAR
VERSION:2.0
PRODID:-//The Greater Renovo Area Heritage Park - ECPv6.15.20//NONSGML v1.0//EN
CALSCALE:GREGORIAN
METHOD:PUBLISH
X-WR-CALNAME:The Greater Renovo Area Heritage Park
X-ORIGINAL-URL:https://renovoheritage.org
X-WR-CALDESC:Events for The Greater Renovo Area Heritage Park
REFRESH-INTERVAL;VALUE=DURATION:PT1H
X-Robots-Tag:noindex
X-PUBLISHED-TTL:PT1H
BEGIN:VTIMEZONE
TZID:America/New_York
BEGIN:DAYLIGHT
TZOFFSETFROM:-0500
TZOFFSETTO:-0400
TZNAME:EDT
DTSTART:20200308T070000
END:DAYLIGHT
BEGIN:STANDARD
TZOFFSETFROM:-0400
TZOFFSETTO:-0500
TZNAME:EST
DTSTART:20201101T060000
END:STANDARD
BEGIN:DAYLIGHT
TZOFFSETFROM:-0500
TZOFFSETTO:-0400
TZNAME:EDT
DTSTART:20210314T070000
END:DAYLIGHT
BEGIN:STANDARD
TZOFFSETFROM:-0400
TZOFFSETTO:-0500
TZNAME:EST
DTSTART:20211107T060000
END:STANDARD
BEGIN:DAYLIGHT
TZOFFSETFROM:-0500
TZOFFSETTO:-0400
TZNAME:EDT
DTSTART:20220313T070000
END:DAYLIGHT
BEGIN:STANDARD
TZOFFSETFROM:-0400
TZOFFSETTO:-0500
TZNAME:EST
DTSTART:20221106T060000
END:STANDARD
END:VTIMEZONE
BEGIN:VEVENT
DTSTART;TZID=America/New_York:20211009T113000
DTEND;TZID=America/New_York:20211009T140000
DTSTAMP:20260423T194955
CREATED:20210625T054510Z
LAST-MODIFIED:20210627T105652Z
UID:1892-1633779000-1633788000@renovoheritage.org
SUMMARY:Summer Concert Series - Classic Rock Revival
DESCRIPTION:  \n \nClassic Rock Revival\nOctober 9\, 2021 \nClassic Rock Revival will be rocking the “Pre Parade Party” from 11:30 A.M. – 2:00 P.M.\nLive on stage at the Greater Renovo Area Heritage Park lot\, 530 Erie Avenue\, Renovo\, PA 17764.\nIt’s the Pennsylvania Flaming Foliage Festival\, and we want you to join us on Erie Avenue for some great music\, delicious food\, and a lot of fun.\nThis concert is sponsored by The Clinton County Community Foundation.
URL:https://renovoheritage.org/event/summer-concert-series-classic-rock-revival/
LOCATION:The Greater Renovo Area Heritage Park\, 530 Erie Avenue\, Renovo\, PA\, 17764\, United States
CATEGORIES:Public Service Event
END:VEVENT
BEGIN:VEVENT
DTSTART;TZID=America/New_York:20211009T100000
DTEND;TZID=America/New_York:20211009T143000
DTSTAMP:20260423T194955
CREATED:20210627T103214Z
LAST-MODIFIED:20210627T104833Z
UID:1937-1633773600-1633789800@renovoheritage.org
SUMMARY:Greater Renovo Area Heritage Park "Pre-Parade Party"
DESCRIPTION:Food\, games\, and a free concert on Erie Avenue at Heritage Park as you wait for the parade to start! \nEnjoy live music by one of the area’s premier bands – Classic Rock Revival! \nVisit our museum! Sign a leaf to leave a greeting at our “selfie stop” on the Maxwell Building.
URL:https://renovoheritage.org/event/greater-renovo-area-heritage-park-pre-parade-party/
CATEGORIES:Public Service Event
END:VEVENT
END:VCALENDAR