BEGIN:VCALENDAR
VERSION:2.0
PRODID:-//The Greater Renovo Area Heritage Park - ECPv6.15.20//NONSGML v1.0//EN
CALSCALE:GREGORIAN
METHOD:PUBLISH
X-WR-CALNAME:The Greater Renovo Area Heritage Park
X-ORIGINAL-URL:https://renovoheritage.org
X-WR-CALDESC:Events for The Greater Renovo Area Heritage Park
REFRESH-INTERVAL;VALUE=DURATION:PT1H
X-Robots-Tag:noindex
X-PUBLISHED-TTL:PT1H
BEGIN:VTIMEZONE
TZID:America/New_York
BEGIN:DAYLIGHT
TZOFFSETFROM:-0500
TZOFFSETTO:-0400
TZNAME:EDT
DTSTART:20230312T070000
END:DAYLIGHT
BEGIN:STANDARD
TZOFFSETFROM:-0400
TZOFFSETTO:-0500
TZNAME:EST
DTSTART:20231105T060000
END:STANDARD
BEGIN:DAYLIGHT
TZOFFSETFROM:-0500
TZOFFSETTO:-0400
TZNAME:EDT
DTSTART:20240310T070000
END:DAYLIGHT
BEGIN:STANDARD
TZOFFSETFROM:-0400
TZOFFSETTO:-0500
TZNAME:EST
DTSTART:20241103T060000
END:STANDARD
BEGIN:DAYLIGHT
TZOFFSETFROM:-0500
TZOFFSETTO:-0400
TZNAME:EDT
DTSTART:20250309T070000
END:DAYLIGHT
BEGIN:STANDARD
TZOFFSETFROM:-0400
TZOFFSETTO:-0500
TZNAME:EST
DTSTART:20251102T060000
END:STANDARD
END:VTIMEZONE
BEGIN:VEVENT
DTSTART;TZID=America/New_York:20240720T093000
DTEND;TZID=America/New_York:20240720T210000
DTSTAMP:20260424T174559
CREATED:20240419T003920Z
LAST-MODIFIED:20240719T181629Z
UID:5226-1721467800-1721509200@renovoheritage.org
SUMMARY:CANCELED - 2024 Annual Kayak Poker Float
DESCRIPTION:UPDATE: FRIDAY\, JULY 19 \nThe Annual Kayak Poker Float has been CANCELED due to low water in the river. We are very sorry\, and all registrations to this point will be refunded. \n  \nJoin us for our Annual Kayak Poker Float on July 20\, 2024! Registration is $30 and you must be 21 to participate in the poker. Poker is $5.00. Meet us at Good Neighbor Craft House in Hyner\, PA between 8:30 a.m. and 9:30 a.m. for registration and to load the kayaks. The float begins in Westport\, PA and ends in Hyner\, PA. There will be a safety briefing at 9:45 a.m.\, and we will load the bus at 10 a.m. Be sure to stay for entertainment starting at 7 p.m. \nOur event is open to the public. \nDate and Time:\nSaturday\, July 20\, 2024 \nLocation: \nMeet at Good Neighbor Craft House in Hyner\, Pa. The float begins at Westport\, PA and ends in Hyner\, PA. \n \n\nGet Involved: \nInterested in getting involved? Learn How \n\nFor more information:\nContact Tracy Shady at 570-755-1324 or tshady92@yahoo.com. \nEvent is sponsored by The Greater Renovo Area Heritage Park.\nProceeds benefit The Greater Renovo Area Heritage Park.
URL:https://renovoheritage.org/event/2024-annual-kayak-poker-float/
LOCATION:PA
ATTACH;FMTTYPE=image/jpeg:https://renovoheritage.org/wp-content/uploads/2021/06/tracy-kayak.jpeg
END:VEVENT
END:VCALENDAR